BEGIN:VCALENDAR
VERSION:2.0
PRODID:-//YOGAHAUS Samvit - ECPv6.15.20//NONSGML v1.0//EN
CALSCALE:GREGORIAN
METHOD:PUBLISH
X-WR-CALNAME:YOGAHAUS Samvit
X-ORIGINAL-URL:https://www.yogahaus.org
X-WR-CALDESC:Veranstaltungen für YOGAHAUS Samvit
REFRESH-INTERVAL;VALUE=DURATION:PT1H
X-Robots-Tag:noindex
X-PUBLISHED-TTL:PT1H
BEGIN:VTIMEZONE
TZID:Europe/Vienna
BEGIN:DAYLIGHT
TZOFFSETFROM:+0100
TZOFFSETTO:+0200
TZNAME:CEST
DTSTART:20220327T010000
END:DAYLIGHT
BEGIN:STANDARD
TZOFFSETFROM:+0200
TZOFFSETTO:+0100
TZNAME:CET
DTSTART:20221030T010000
END:STANDARD
BEGIN:DAYLIGHT
TZOFFSETFROM:+0100
TZOFFSETTO:+0200
TZNAME:CEST
DTSTART:20230326T010000
END:DAYLIGHT
BEGIN:STANDARD
TZOFFSETFROM:+0200
TZOFFSETTO:+0100
TZNAME:CET
DTSTART:20231029T010000
END:STANDARD
BEGIN:DAYLIGHT
TZOFFSETFROM:+0100
TZOFFSETTO:+0200
TZNAME:CEST
DTSTART:20240331T010000
END:DAYLIGHT
BEGIN:STANDARD
TZOFFSETFROM:+0200
TZOFFSETTO:+0100
TZNAME:CET
DTSTART:20241027T010000
END:STANDARD
END:VTIMEZONE
BEGIN:VEVENT
DTSTART;VALUE=DATE:20230505
DTEND;VALUE=DATE:20230508
DTSTAMP:20260422T092427
CREATED:20220912T102825Z
LAST-MODIFIED:20220912T102825Z
UID:4265-1683244800-1683503999@www.yogahaus.org
SUMMARY:ANATOMIE im YOGA mit Radha
DESCRIPTION:Als Yogaübender solltest du ein wenig über Anatomie Bescheid wissen. \nIn diesem Seminar bekommst du einen Einblick in unsere Körpersysteme und Erklärung der wichtigsten Muskeln. \nDetaillierte Unterlagen helfen dir auch nach dem Workshop deinen Körper und die Mobilität besser zu verstehen \num in deiner Praxis die nötige Achtsamkeit umzusetzen. (Empfehlenswert auch für Yogalehrer/Innen)  \n(inkl. SEMINAR Tagesablauf) Seminaraufpreis € 62\,-
URL:https://www.yogahaus.org/event/anatomie-im-yoga-mit-radha/
LOCATION:YOGAHAUS Samvit\, Dürnbachstraße 56\, Schliersee\, 83727\, Deutschland
CATEGORIES:Retreat Seminare
ATTACH;FMTTYPE=image/jpeg:https://www.yogahaus.org/wp-content/uploads/2022/09/Anatomy.jpeg
ORGANIZER;CN="Samvit Sagar Yoga Schule e.V.":MAILTO:haus@yogasamvit.com
END:VEVENT
END:VCALENDAR