BEGIN:VCALENDAR
VERSION:2.0
PRODID:-//YOGAHAUS Samvit - ECPv6.15.20//NONSGML v1.0//EN
CALSCALE:GREGORIAN
METHOD:PUBLISH
X-ORIGINAL-URL:https://www.yogahaus.org
X-WR-CALDESC:Veranstaltungen für YOGAHAUS Samvit
REFRESH-INTERVAL;VALUE=DURATION:PT1H
X-Robots-Tag:noindex
X-PUBLISHED-TTL:PT1H
BEGIN:VTIMEZONE
TZID:Europe/Vienna
BEGIN:DAYLIGHT
TZOFFSETFROM:+0100
TZOFFSETTO:+0200
TZNAME:CEST
DTSTART:20220327T010000
END:DAYLIGHT
BEGIN:STANDARD
TZOFFSETFROM:+0200
TZOFFSETTO:+0100
TZNAME:CET
DTSTART:20221030T010000
END:STANDARD
BEGIN:DAYLIGHT
TZOFFSETFROM:+0100
TZOFFSETTO:+0200
TZNAME:CEST
DTSTART:20230326T010000
END:DAYLIGHT
BEGIN:STANDARD
TZOFFSETFROM:+0200
TZOFFSETTO:+0100
TZNAME:CET
DTSTART:20231029T010000
END:STANDARD
BEGIN:DAYLIGHT
TZOFFSETFROM:+0100
TZOFFSETTO:+0200
TZNAME:CEST
DTSTART:20240331T010000
END:DAYLIGHT
BEGIN:STANDARD
TZOFFSETFROM:+0200
TZOFFSETTO:+0100
TZNAME:CET
DTSTART:20241027T010000
END:STANDARD
END:VTIMEZONE
BEGIN:VEVENT
DTSTART;VALUE=DATE:20230302
DTEND;VALUE=DATE:20230306
DTSTAMP:20260424T203157
CREATED:20220915T105547Z
LAST-MODIFIED:20220915T105547Z
UID:4327-1677715200-1678060799@www.yogahaus.org
SUMMARY:YOGAURLAUB buchbar
DESCRIPTION:Du möchtest wissen wie es in einem Yoga Ashram ist – dann bist du bei uns richtig. \nKomm als Yogaurlauber oder mache dein ganz persönliches Retreat. \n\n(Buchung ist erforderlich) Der Preis richtet sich nach deiner Zimmerkategorie.
URL:https://www.yogahaus.org/event/yogaurlaub-buchbar-39/
LOCATION:YOGAHAUS Samvit\, Dürnbachstraße 56\, Schliersee\, 83727\, Deutschland
CATEGORIES:YOGAURLAUB buchbar
ATTACH;FMTTYPE=image/jpeg:https://www.yogahaus.org/wp-content/uploads/2022/09/YH_Urlaub.jpg
ORGANIZER;CN="Samvit Sagar Yoga Schule e.V.":MAILTO:haus@yogasamvit.com
END:VEVENT
BEGIN:VEVENT
DTSTART;VALUE=DATE:20230309
DTEND;VALUE=DATE:20230313
DTSTAMP:20260424T203157
CREATED:20220916T122016Z
LAST-MODIFIED:20220916T122016Z
UID:4336-1678320000-1678665599@www.yogahaus.org
SUMMARY:YOGAURLAUB buchbar
DESCRIPTION:Du möchtest wissen wie es in einem Yoga Ashram ist – dann bist du bei uns richtig. \nKomm als Yogaurlauber oder mache dein ganz persönliches Retreat. \n\n\n(Buchung ist erforderlich) Der Preis richtet sich nach deiner Zimmerkategorie.
URL:https://www.yogahaus.org/event/yogaurlaub-buchbar-40/
LOCATION:YOGAHAUS Samvit\, Dürnbachstraße 56\, Schliersee\, 83727\, Deutschland
CATEGORIES:YOGAURLAUB buchbar
ATTACH;FMTTYPE=image/jpeg:https://www.yogahaus.org/wp-content/uploads/2022/09/YH_Urlaub.jpg
ORGANIZER;CN="Samvit Sagar Yoga Schule e.V.":MAILTO:haus@yogasamvit.com
END:VEVENT
BEGIN:VEVENT
DTSTART;VALUE=DATE:20230317
DTEND;VALUE=DATE:20230320
DTSTAMP:20260424T203157
CREATED:20220916T122235Z
LAST-MODIFIED:20220916T122235Z
UID:4338-1679011200-1679270399@www.yogahaus.org
SUMMARY:YOGAURLAUB buchbar
DESCRIPTION:Du möchtest wissen wie es in einem Yoga Ashram ist – dann bist du bei uns richtig. \nKomm als Yogaurlauber oder mache dein ganz persönliches Retreat. \n\n\n(Buchung ist erforderlich) Der Preis richtet sich nach deiner Zimmerkategorie.
URL:https://www.yogahaus.org/event/yogaurlaub-buchbar-41/
LOCATION:YOGAHAUS Samvit\, Dürnbachstraße 56\, Schliersee\, 83727\, Deutschland
CATEGORIES:YOGAURLAUB buchbar
ATTACH;FMTTYPE=image/jpeg:https://www.yogahaus.org/wp-content/uploads/2022/09/YH_Urlaub.jpg
ORGANIZER;CN="Samvit Sagar Yoga Schule e.V.":MAILTO:haus@yogasamvit.com
END:VEVENT
BEGIN:VEVENT
DTSTART;VALUE=DATE:20230322
DTEND;VALUE=DATE:20230327
DTSTAMP:20260424T203157
CREATED:20220912T101424Z
LAST-MODIFIED:20220912T101425Z
UID:4254-1679443200-1679875199@www.yogahaus.org
SUMMARY:PRANAYAMA SADHANA mit Venu
DESCRIPTION:Das Erkennen der eigenen Hindernisse ist ein wichtiger Bestandteil der eigenen Yogapraxis. \nPatanjali schreibt im 2. Kapitel der Yoga Sutren\, mehr über spezifische Praktiken und eine \ndetaillierte Beschreibung dieser Verwirrungen\, die Umwandlung erfordern. \nViel Praxis wenig Theorie. Praktizieren von\, fortgeschrittenem Pranayama und langes Verweilen in den Asanas. \nTauche ein in die Tiefe deines Seins (Nicht geeignet für Anfänger !!!)  \n(geändeter Tagesablauf) Seminaraufpreis € 88\,-
URL:https://www.yogahaus.org/event/pranayama-sadhana-mit-venu-2/
LOCATION:YOGAHAUS Samvit\, Dürnbachstraße 56\, Schliersee\, 83727\, Deutschland
CATEGORIES:Retreat Seminare
ATTACH;FMTTYPE=image/jpeg:https://www.yogahaus.org/wp-content/uploads/2022/09/Prana.jpeg
ORGANIZER;CN="Samvit Sagar Yoga Schule e.V.":MAILTO:haus@yogasamvit.com
END:VEVENT
BEGIN:VEVENT
DTSTART;VALUE=DATE:20230331
DTEND;VALUE=DATE:20230417
DTSTAMP:20260424T203157
CREATED:20220916T122521Z
LAST-MODIFIED:20220916T122522Z
UID:4340-1680220800-1681689599@www.yogahaus.org
SUMMARY:YOGAURLAUB buchbar
DESCRIPTION:Du möchtest wissen wie es in einem Yoga Ashram ist – dann bist du bei uns richtig. \nKomm als Yogaurlauber oder mache dein ganz persönliches Retreat. \n\nFreie Termineinteilung. Du kannst an jedem dieser Tage anreisen und bist an keine Termine gebunden. \n(Buchung ist erforderlich) Der Preis richtet sich nach deiner Zimmerkategorie.
URL:https://www.yogahaus.org/event/yogaurlaub-buchbar-42/
LOCATION:YOGAHAUS Samvit\, Dürnbachstraße 56\, Schliersee\, 83727\, Deutschland
CATEGORIES:YOGAURLAUB buchbar
ORGANIZER;CN="Samvit Sagar Yoga Schule e.V.":MAILTO:haus@yogasamvit.com
END:VEVENT
END:VCALENDAR