BEGIN:VCALENDAR
VERSION:2.0
PRODID:-//YOGAHAUS Samvit - ECPv6.15.20//NONSGML v1.0//EN
CALSCALE:GREGORIAN
METHOD:PUBLISH
X-WR-CALNAME:YOGAHAUS Samvit
X-ORIGINAL-URL:https://www.yogahaus.org
X-WR-CALDESC:Veranstaltungen für YOGAHAUS Samvit
REFRESH-INTERVAL;VALUE=DURATION:PT1H
X-Robots-Tag:noindex
X-PUBLISHED-TTL:PT1H
BEGIN:VTIMEZONE
TZID:Europe/Vienna
BEGIN:DAYLIGHT
TZOFFSETFROM:+0100
TZOFFSETTO:+0200
TZNAME:CEST
DTSTART:20220327T010000
END:DAYLIGHT
BEGIN:STANDARD
TZOFFSETFROM:+0200
TZOFFSETTO:+0100
TZNAME:CET
DTSTART:20221030T010000
END:STANDARD
BEGIN:DAYLIGHT
TZOFFSETFROM:+0100
TZOFFSETTO:+0200
TZNAME:CEST
DTSTART:20230326T010000
END:DAYLIGHT
BEGIN:STANDARD
TZOFFSETFROM:+0200
TZOFFSETTO:+0100
TZNAME:CET
DTSTART:20231029T010000
END:STANDARD
BEGIN:DAYLIGHT
TZOFFSETFROM:+0100
TZOFFSETTO:+0200
TZNAME:CEST
DTSTART:20240331T010000
END:DAYLIGHT
BEGIN:STANDARD
TZOFFSETFROM:+0200
TZOFFSETTO:+0100
TZNAME:CET
DTSTART:20241027T010000
END:STANDARD
END:VTIMEZONE
BEGIN:VEVENT
DTSTART;VALUE=DATE:20230707
DTEND;VALUE=DATE:20230710
DTSTAMP:20260424T135553
CREATED:20220913T153755Z
LAST-MODIFIED:20220913T153756Z
UID:4283-1688688000-1688947199@www.yogahaus.org
SUMMARY:YOGA für die GELENKE  mit Venu
DESCRIPTION:Pawan-Mukta-Asanas\, eine Reihe von 34 Übungen – berühren alle Gelenke und befreien diese  \nwichtigen Verbindungsstellen von Ablagerungen\, sowie Vorbeugung von Versteifungen jeder Art.  \n(inkl. SEMINAR Tagesablauf) Seminaraufpreis € 52\,-
URL:https://www.yogahaus.org/event/yoga-fuer-die-gelenke-mit-venu/
LOCATION:YOGAHAUS Samvit\, Dürnbachstraße 56\, Schliersee\, 83727\, Deutschland
CATEGORIES:Retreat Seminare
ATTACH;FMTTYPE=image/jpeg:https://www.yogahaus.org/wp-content/uploads/2022/09/Gelenke.jpeg
ORGANIZER;CN="Samvit Sagar Yoga Schule e.V.":MAILTO:haus@yogasamvit.com
END:VEVENT
BEGIN:VEVENT
DTSTART;VALUE=DATE:20230721
DTEND;VALUE=DATE:20230724
DTSTAMP:20260424T135553
CREATED:20220913T154124Z
LAST-MODIFIED:20220913T154125Z
UID:4286-1689897600-1690156799@www.yogahaus.org
SUMMARY:WOMAN on FIRE mit Elisabeth (Heilpraktikerin und Mitbegründerin vom Yogahaus)
DESCRIPTION:Ein Workshop für die moderne Frau. Wir sprechen über ein Thema das viel zu wenig Aufmerksamkeit bekommt – die Wechseljahre. \nBereits mit Anfang 40 beginnt die Zeit des Wandels und leider wird so gut wie überhaupt nicht über das Thema gesprochen. \nIch möchte Dir in dem Workshop zeigen was es für Möglichkeiten gibt damit umzugehen. Es als etwas wundervolles zu sehen. \nDie Wechseljahre –  sind eine aufregende Lebensphase zwischen dem 40. und 60. Lebensjahr\, die die Chance zu einer persönlichen \nNeuausrichtung eröffnen. Wechseljahre stellen das Leben auf den Prüfstand: \n  \nDie hormonell bedingten Veränderungen gehen manchmal mit Beschwerden\, häufig auch mit sozialen Veränderungen wie dem Auszug \nder Kinder und der Neugestaltung von Partnerschaft und Beruf einher. \nTeile unseres bisherigen Lebens müssen wir hinter uns lassen und lernen\, Veränderungen zu akzeptieren. \nGleichzeitig begeben wir uns auf die Suche nach neuen Lebensinhalten und so bietet diese Entwicklungsphase die Möglichkeit\, \neinen neuen Weg einzuschlagen\, der verspricht\, die eigenen Bedürfnisse stärker in den Vordergrund zu stellen. \nEs ist eine wundervolle Reise und es gibt wunderbare Möglichkeiten die Dir helfen den neuen Abschnitt zu gehen. \n(inkl. SEMINAR Tagesablauf) Seminaraufpreis € 72\,-
URL:https://www.yogahaus.org/event/woman-on-fire-mit-elisabeth-heilpraktikerin-und-mitbegruenderin-vom-yogahaus/
LOCATION:YOGAHAUS Samvit\, Dürnbachstraße 56\, Schliersee\, 83727\, Deutschland
CATEGORIES:Retreat Seminare
ATTACH;FMTTYPE=image/jpeg:https://www.yogahaus.org/wp-content/uploads/2022/09/Women-of-fire-HD-wallpapers-images.jpg
ORGANIZER;CN="Samvit Sagar Yoga Schule e.V.":MAILTO:haus@yogasamvit.com
END:VEVENT
BEGIN:VEVENT
DTSTART;VALUE=DATE:20230721
DTEND;VALUE=DATE:20230911
DTSTAMP:20260424T135553
CREATED:20220928T070820Z
LAST-MODIFIED:20220928T071704Z
UID:4380-1689897600-1694390399@www.yogahaus.org
SUMMARY:Yoga SOMMER-        URLAUB buchbar
DESCRIPTION:Du möchtest wissen wie es in einem Yoga Ashram ist – dann bist du bei uns richtig. \nKomm als Yogaurlauber oder mache dein ganz persönliches Retreat. \n\nFreie Termineinteilung. Du kannst an jedem dieser Tage anreisen und bist an keine Termine gebunden. \n(Buchung ist erforderlich) Der Preis richtet sich nach deiner Zimmerkategorie.
URL:https://www.yogahaus.org/event/yoga-sommerurlaub-buchbar/
LOCATION:YOGAHAUS Samvit\, Dürnbachstraße 56\, Schliersee\, 83727\, Deutschland
CATEGORIES:YOGAURLAUB buchbar
ATTACH;FMTTYPE=image/jpeg:https://www.yogahaus.org/wp-content/uploads/2021/09/holiday2.jpg
ORGANIZER;CN="Samvit Sagar Yoga Schule e.V.":MAILTO:haus@yogasamvit.com
END:VEVENT
BEGIN:VEVENT
DTSTART;VALUE=DATE:20230730
DTEND;VALUE=DATE:20230807
DTSTAMP:20260424T135553
CREATED:20220913T154436Z
LAST-MODIFIED:20220913T154436Z
UID:4289-1690675200-1691366399@www.yogahaus.org
SUMMARY:YOGA PRAXIS Woche - 7 Tage kommen\, nur 6 bezahlen!
DESCRIPTION:Nimm dir eine Auszeit. Eine Woche zum Aufladen\, Entspannen und mit Deinem wahren „Selbst“ wieder in Kontakt kommen. \nTägliche Yogastunden und Zeit für Spaziergänge. \n(inkl. YOGAHAUS Tagesablauf) Der Preis richtet sich nach deiner Zimmerkategorie.
URL:https://www.yogahaus.org/event/yoga-praxis-woche-7-tage-kommen-nur-6-bezahlen/
LOCATION:YOGAHAUS Samvit\, Dürnbachstraße 56\, Schliersee\, 83727\, Deutschland
CATEGORIES:Retreat Seminare
ATTACH;FMTTYPE=image/jpeg:https://www.yogahaus.org/wp-content/uploads/2022/09/Praxis_Woche.jpeg
ORGANIZER;CN="Samvit Sagar Yoga Schule e.V.":MAILTO:haus@yogasamvit.com
END:VEVENT
END:VCALENDAR