BEGIN:VCALENDAR
VERSION:2.0
PRODID:-//YOGAHAUS Samvit - ECPv6.15.20//NONSGML v1.0//EN
CALSCALE:GREGORIAN
METHOD:PUBLISH
X-WR-CALNAME:YOGAHAUS Samvit
X-ORIGINAL-URL:https://www.yogahaus.org
X-WR-CALDESC:Veranstaltungen für YOGAHAUS Samvit
REFRESH-INTERVAL;VALUE=DURATION:PT1H
X-Robots-Tag:noindex
X-PUBLISHED-TTL:PT1H
BEGIN:VTIMEZONE
TZID:Europe/Vienna
BEGIN:DAYLIGHT
TZOFFSETFROM:+0100
TZOFFSETTO:+0200
TZNAME:CEST
DTSTART:20220327T010000
END:DAYLIGHT
BEGIN:STANDARD
TZOFFSETFROM:+0200
TZOFFSETTO:+0100
TZNAME:CET
DTSTART:20221030T010000
END:STANDARD
BEGIN:DAYLIGHT
TZOFFSETFROM:+0100
TZOFFSETTO:+0200
TZNAME:CEST
DTSTART:20230326T010000
END:DAYLIGHT
BEGIN:STANDARD
TZOFFSETFROM:+0200
TZOFFSETTO:+0100
TZNAME:CET
DTSTART:20231029T010000
END:STANDARD
BEGIN:DAYLIGHT
TZOFFSETFROM:+0100
TZOFFSETTO:+0200
TZNAME:CEST
DTSTART:20240331T010000
END:DAYLIGHT
BEGIN:STANDARD
TZOFFSETFROM:+0200
TZOFFSETTO:+0100
TZNAME:CET
DTSTART:20241027T010000
END:STANDARD
END:VTIMEZONE
BEGIN:VEVENT
DTSTART;VALUE=DATE:20231107
DTEND;VALUE=DATE:20231113
DTSTAMP:20260422T192928
CREATED:20220928T072505Z
LAST-MODIFIED:20220928T072506Z
UID:4390-1699315200-1699833599@www.yogahaus.org
SUMMARY:YOGAURLAUB buchbar
DESCRIPTION:Du möchtest wissen wie es in einem Yoga Ashram ist – dann bist du bei uns richtig. \nKomm als Yogaurlauber oder mache dein ganz persönliches Retreat. \n\n\n(Buchung ist erforderlich) Der Preis richtet sich nach deiner Zimmerkategorie.
URL:https://www.yogahaus.org/event/yogaurlaub-buchbar-53/
LOCATION:YOGAHAUS Samvit\, Dürnbachstraße 56\, Schliersee\, 83727\, Deutschland
CATEGORIES:YOGAURLAUB buchbar
ATTACH;FMTTYPE=image/jpeg:https://www.yogahaus.org/wp-content/uploads/2022/09/YH_Urlaub.jpg
ORGANIZER;CN="Samvit Sagar Yoga Schule e.V.":MAILTO:haus@yogasamvit.com
END:VEVENT
BEGIN:VEVENT
DTSTART;VALUE=DATE:20231117
DTEND;VALUE=DATE:20231120
DTSTAMP:20260422T192928
CREATED:20220913T160528Z
LAST-MODIFIED:20220913T160528Z
UID:4301-1700179200-1700438399@www.yogahaus.org
SUMMARY:Die KRAFT der STILLE mit Venu
DESCRIPTION:Wolltest du schon immer Meditation in dein Leben integrieren\, zur Ruhe kommen und Klarheit über existentielle Fragen in deinem Leben haben? \nOhne Ablenkung – getragen durch einen klaren Tagesablauf\, Meditation\, achtsames Essen und Yoga hast du die Möglichkeit\, zur Ruhe zu kommen \nund neue Kraft zu schöpfen. \n(inkl. SEMINAR Tagesablauf) Seminaraufpreis € 58\,-
URL:https://www.yogahaus.org/event/die-kraft-der-stille-mit-venu/
LOCATION:YOGAHAUS Samvit\, Dürnbachstraße 56\, Schliersee\, 83727\, Deutschland
CATEGORIES:Retreat Seminare
ATTACH;FMTTYPE=image/jpeg:https://www.yogahaus.org/wp-content/uploads/2022/09/Stille.jpeg
ORGANIZER;CN="Samvit Sagar Yoga Schule e.V.":MAILTO:haus@yogasamvit.com
END:VEVENT
END:VCALENDAR