BEGIN:VCALENDAR
VERSION:2.0
PRODID:-//YOGAHAUS Samvit - ECPv6.15.20//NONSGML v1.0//EN
CALSCALE:GREGORIAN
METHOD:PUBLISH
X-WR-CALNAME:YOGAHAUS Samvit
X-ORIGINAL-URL:https://www.yogahaus.org
X-WR-CALDESC:Veranstaltungen für YOGAHAUS Samvit
REFRESH-INTERVAL;VALUE=DURATION:PT1H
X-Robots-Tag:noindex
X-PUBLISHED-TTL:PT1H
BEGIN:VTIMEZONE
TZID:Europe/Vienna
BEGIN:DAYLIGHT
TZOFFSETFROM:+0100
TZOFFSETTO:+0200
TZNAME:CEST
DTSTART:20240331T010000
END:DAYLIGHT
BEGIN:STANDARD
TZOFFSETFROM:+0200
TZOFFSETTO:+0100
TZNAME:CET
DTSTART:20241027T010000
END:STANDARD
BEGIN:DAYLIGHT
TZOFFSETFROM:+0100
TZOFFSETTO:+0200
TZNAME:CEST
DTSTART:20250330T010000
END:DAYLIGHT
BEGIN:STANDARD
TZOFFSETFROM:+0200
TZOFFSETTO:+0100
TZNAME:CET
DTSTART:20251026T010000
END:STANDARD
BEGIN:DAYLIGHT
TZOFFSETFROM:+0100
TZOFFSETTO:+0200
TZNAME:CEST
DTSTART:20260329T010000
END:DAYLIGHT
BEGIN:STANDARD
TZOFFSETFROM:+0200
TZOFFSETTO:+0100
TZNAME:CET
DTSTART:20261025T010000
END:STANDARD
END:VTIMEZONE
BEGIN:VEVENT
DTSTART;VALUE=DATE:20250131
DTEND;VALUE=DATE:20250203
DTSTAMP:20260419T204438
CREATED:20240910T112911Z
LAST-MODIFIED:20250125T124835Z
UID:6269-1738281600-1738540799@www.yogahaus.org
SUMMARY:YOGAURLAUB buchbar
DESCRIPTION:Du möchtest wissen wie es in einem Yoga Ashram ist – dann bist du bei uns richtig.\nKomm als Yogaurlauber oder mache dein ganz persönliches Retreat. \nFreie Termineinteilung. Du kannst an jedem dieser Tage anreisen und bist an keine Termine gebunden.\n(Buchung ist erforderlich) Der Preis richtet sich nach deiner Zimmerkategorie.
URL:https://www.yogahaus.org/event/yogaurlaub-buchbar/
LOCATION:YOGAHAUS Samvit\, Dürnbachstraße 56\, Schliersee\, 83727\, Deutschland
CATEGORIES:YOGAURLAUB buchbar
ATTACH;FMTTYPE=image/webp:https://www.yogahaus.org/wp-content/uploads/2024/09/Praxistage.jpg.webp
ORGANIZER;CN="Samvit Sagar Yoga Schule e.V.":MAILTO:haus@yogasamvit.com
END:VEVENT
BEGIN:VEVENT
DTSTART;VALUE=DATE:20250209
DTEND;VALUE=DATE:20250215
DTSTAMP:20260419T204438
CREATED:20240911T065853Z
LAST-MODIFIED:20241211T063953Z
UID:6351-1739059200-1739577599@www.yogahaus.org
SUMMARY:YOGA PRAXIS Tage - 5 Tage kommen\, nur 4 bezahlen!
DESCRIPTION:Nimm dir eine Auszeit. Eine Woche zum Aufladen\, Entspannen und deine innere Mitte wieder finden. \nTägliche Yogastunden und Zeit für Massagen oder Spaziergänge. \n(inkl. YOGAHAUS Tagesablauf) Der Preis richtet sich nach deiner Zimmerkategorie.
URL:https://www.yogahaus.org/event/yoga-praxis-tage-5-tage-kommen-nur-4-bezahlen/
LOCATION:YOGAHAUS Samvit\, Dürnbachstraße 56\, Schliersee\, 83727\, Deutschland
CATEGORIES:Retreat Seminare
ATTACH;FMTTYPE=image/jpeg:https://www.yogahaus.org/wp-content/uploads/2022/09/Praxis2.jpg
ORGANIZER;CN="Samvit Sagar Yoga Schule e.V.":MAILTO:haus@yogasamvit.com
END:VEVENT
BEGIN:VEVENT
DTSTART;VALUE=DATE:20250209
DTEND;VALUE=DATE:20250217
DTSTAMP:20260419T204438
CREATED:20240910T113716Z
LAST-MODIFIED:20250206T062614Z
UID:6274-1739059200-1739750399@www.yogahaus.org
SUMMARY:YOGAURLAUB buchbar
DESCRIPTION:Du möchtest wissen wie es in einem Yoga Ashram ist – dann bist du bei uns richtig.\nKomm als Yogaurlauber oder mache dein ganz persönliches Retreat. \nFreie Termineinteilung. Du kannst an jedem dieser Tage anreisen und bist an keine Termine gebunden.\n(Buchung ist erforderlich) Der Preis richtet sich nach deiner Zimmerkategorie.
URL:https://www.yogahaus.org/event/yogaurlaub-buchbar-2/
LOCATION:YOGAHAUS Samvit\, Dürnbachstraße 56\, Schliersee\, 83727\, Deutschland
CATEGORIES:YOGAURLAUB buchbar
ATTACH;FMTTYPE=image/webp:https://www.yogahaus.org/wp-content/uploads/2024/09/Praxistage.jpg.webp
ORGANIZER;CN="Samvit Sagar Yoga Schule e.V.":MAILTO:haus@yogasamvit.com
END:VEVENT
BEGIN:VEVENT
DTSTART;VALUE=DATE:20250221
DTEND;VALUE=DATE:20250224
DTSTAMP:20260419T204438
CREATED:20240910T113856Z
LAST-MODIFIED:20240910T162957Z
UID:6276-1740096000-1740355199@www.yogahaus.org
SUMMARY:YOGAURLAUB buchbar
DESCRIPTION:Du möchtest wissen wie es in einem Yoga Ashram ist – dann bist du bei uns richtig.\nKomm als Yogaurlauber oder mache dein ganz persönliches Retreat. \nFreie Termineinteilung. Du kannst an jedem dieser Tage anreisen und bist an keine Termine gebunden.\n(Buchung ist erforderlich) Der Preis richtet sich nach deiner Zimmerkategorie.
URL:https://www.yogahaus.org/event/yogaurlaub-buchbar-3/
LOCATION:YOGAHAUS Samvit\, Dürnbachstraße 56\, Schliersee\, 83727\, Deutschland
CATEGORIES:YOGAURLAUB buchbar
ATTACH;FMTTYPE=image/webp:https://www.yogahaus.org/wp-content/uploads/2024/09/Praxistage.jpg.webp
ORGANIZER;CN="Samvit Sagar Yoga Schule e.V.":MAILTO:haus@yogasamvit.com
END:VEVENT
BEGIN:VEVENT
DTSTART;VALUE=DATE:20250221
DTEND;VALUE=DATE:20250224
DTSTAMP:20260419T204438
CREATED:20240911T070232Z
LAST-MODIFIED:20241211T064023Z
UID:6353-1740096000-1740355199@www.yogahaus.org
SUMMARY:Die 3 KÖRPER im YOGA
DESCRIPTION:… mit Venu \nIm Yoga sprechen wir von 3 Körpern – Der Mensch existiert nicht nur auf der physischen Ebene wo wir den Körper mit all seinen Funktionen haben. Sondern auch auf anderen Dimensionsebenen die nicht physisch wahrnehmbar oder beweisbar sind. Wenn wir unseren Geist öffnen und unsere Wahrnehmung erweitern\, dann bekommen wir mehr Zugang zu unserem wahren Selbst. \n(inkl. SEMINAR Tagesablauf) Seminaraufpreis € 52\,-
URL:https://www.yogahaus.org/event/die-3-koerper-im-yoga/
LOCATION:YOGAHAUS Samvit\, Dürnbachstraße 56\, Schliersee\, 83727\, Deutschland
CATEGORIES:Retreat Seminare
ATTACH;FMTTYPE=image/jpeg:https://www.yogahaus.org/wp-content/uploads/2024/09/3Bodies.jpg
ORGANIZER;CN="Samvit Sagar Yoga Schule e.V.":MAILTO:haus@yogasamvit.com
END:VEVENT
BEGIN:VEVENT
DTSTART;VALUE=DATE:20250228
DTEND;VALUE=DATE:20250310
DTSTAMP:20260419T204438
CREATED:20240910T114100Z
LAST-MODIFIED:20240910T163036Z
UID:6278-1740700800-1741564799@www.yogahaus.org
SUMMARY:YOGAURLAUB buchbar
DESCRIPTION:Du möchtest wissen wie es in einem Yoga Ashram ist – dann bist du bei uns richtig.\nKomm als Yogaurlauber oder mache dein ganz persönliches Retreat. \nFreie Termineinteilung. Du kannst an jedem dieser Tage anreisen und bist an keine Termine gebunden.\n(Buchung ist erforderlich) Der Preis richtet sich nach deiner Zimmerkategorie.
URL:https://www.yogahaus.org/event/yogaurlaub-buchbar-4/
LOCATION:YOGAHAUS Samvit\, Dürnbachstraße 56\, Schliersee\, 83727\, Deutschland
CATEGORIES:YOGAURLAUB buchbar
ATTACH;FMTTYPE=image/webp:https://www.yogahaus.org/wp-content/uploads/2024/09/Praxistage.jpg.webp
ORGANIZER;CN="Samvit Sagar Yoga Schule e.V.":MAILTO:haus@yogasamvit.com
END:VEVENT
END:VCALENDAR