BEGIN:VCALENDAR
VERSION:2.0
PRODID:-//YOGAHAUS Samvit - ECPv6.15.20//NONSGML v1.0//EN
CALSCALE:GREGORIAN
METHOD:PUBLISH
X-ORIGINAL-URL:https://www.yogahaus.org
X-WR-CALDESC:Veranstaltungen für YOGAHAUS Samvit
REFRESH-INTERVAL;VALUE=DURATION:PT1H
X-Robots-Tag:noindex
X-PUBLISHED-TTL:PT1H
BEGIN:VTIMEZONE
TZID:Europe/Vienna
BEGIN:DAYLIGHT
TZOFFSETFROM:+0100
TZOFFSETTO:+0200
TZNAME:CEST
DTSTART:20240331T010000
END:DAYLIGHT
BEGIN:STANDARD
TZOFFSETFROM:+0200
TZOFFSETTO:+0100
TZNAME:CET
DTSTART:20241027T010000
END:STANDARD
BEGIN:DAYLIGHT
TZOFFSETFROM:+0100
TZOFFSETTO:+0200
TZNAME:CEST
DTSTART:20250330T010000
END:DAYLIGHT
BEGIN:STANDARD
TZOFFSETFROM:+0200
TZOFFSETTO:+0100
TZNAME:CET
DTSTART:20251026T010000
END:STANDARD
BEGIN:DAYLIGHT
TZOFFSETFROM:+0100
TZOFFSETTO:+0200
TZNAME:CEST
DTSTART:20260329T010000
END:DAYLIGHT
BEGIN:STANDARD
TZOFFSETFROM:+0200
TZOFFSETTO:+0100
TZNAME:CET
DTSTART:20261025T010000
END:STANDARD
END:VTIMEZONE
BEGIN:VEVENT
DTSTART;VALUE=DATE:20250228
DTEND;VALUE=DATE:20250310
DTSTAMP:20260419T191359
CREATED:20240910T114100Z
LAST-MODIFIED:20240910T163036Z
UID:6278-1740700800-1741564799@www.yogahaus.org
SUMMARY:YOGAURLAUB buchbar
DESCRIPTION:Du möchtest wissen wie es in einem Yoga Ashram ist – dann bist du bei uns richtig.\nKomm als Yogaurlauber oder mache dein ganz persönliches Retreat. \nFreie Termineinteilung. Du kannst an jedem dieser Tage anreisen und bist an keine Termine gebunden.\n(Buchung ist erforderlich) Der Preis richtet sich nach deiner Zimmerkategorie.
URL:https://www.yogahaus.org/event/yogaurlaub-buchbar-4/
LOCATION:YOGAHAUS Samvit\, Dürnbachstraße 56\, Schliersee\, 83727\, Deutschland
CATEGORIES:YOGAURLAUB buchbar
ATTACH;FMTTYPE=image/webp:https://www.yogahaus.org/wp-content/uploads/2024/09/Praxistage.jpg.webp
ORGANIZER;CN="Samvit Sagar Yoga Schule e.V.":MAILTO:haus@yogasamvit.com
END:VEVENT
BEGIN:VEVENT
DTSTART;VALUE=DATE:20250314
DTEND;VALUE=DATE:20250317
DTSTAMP:20260419T191359
CREATED:20240910T114328Z
LAST-MODIFIED:20240910T163112Z
UID:6280-1741910400-1742169599@www.yogahaus.org
SUMMARY:YOGAURLAUB buchbar
DESCRIPTION:Du möchtest wissen wie es in einem Yoga Ashram ist – dann bist du bei uns richtig.\nKomm als Yogaurlauber oder mache dein ganz persönliches Retreat. \nFreie Termineinteilung. Du kannst an jedem dieser Tage anreisen und bist an keine Termine gebunden.\n(Buchung ist erforderlich) Der Preis richtet sich nach deiner Zimmerkategorie.
URL:https://www.yogahaus.org/event/yogaurlaub-buchbar-5/
LOCATION:YOGAHAUS Samvit\, Dürnbachstraße 56\, Schliersee\, 83727\, Deutschland
CATEGORIES:YOGAURLAUB buchbar
ATTACH;FMTTYPE=image/webp:https://www.yogahaus.org/wp-content/uploads/2024/09/Praxistage.jpg.webp
ORGANIZER;CN="Samvit Sagar Yoga Schule e.V.":MAILTO:haus@yogasamvit.com
END:VEVENT
BEGIN:VEVENT
DTSTART;VALUE=DATE:20250314
DTEND;VALUE=DATE:20250317
DTSTAMP:20260419T191359
CREATED:20240910T164116Z
LAST-MODIFIED:20241211T064050Z
UID:6344-1741910400-1742169599@www.yogahaus.org
SUMMARY:Yogalehrer/In Ausbildung (YTTC)
DESCRIPTION:Beginn unserer 3 monatigen Intensiv Yogalehrer/In Ausbildung \nMehr Infos unter: INTERNATIONALE YOGA LEHRER/IN AUSBILDUNG (YTTC)https://www.yogahaus.org/kurse.html?&L=0Cornelia
URL:https://www.yogahaus.org/event/yogalehrer-in-ausbildung-yttc-2/
LOCATION:YOGAHAUS Samvit\, Dürnbachstraße 56\, Schliersee\, 83727\, Deutschland
CATEGORIES:Ausbildung
ATTACH;FMTTYPE=image/jpeg:https://www.yogahaus.org/wp-content/uploads/2023/04/ttc.jpeg
ORGANIZER;CN="Samvit Sagar Yoga Schule e.V.":MAILTO:haus@yogasamvit.com
END:VEVENT
BEGIN:VEVENT
DTSTART;VALUE=DATE:20250321
DTEND;VALUE=DATE:20250324
DTSTAMP:20260419T191359
CREATED:20240910T163515Z
LAST-MODIFIED:20240910T163515Z
UID:6342-1742515200-1742774399@www.yogahaus.org
SUMMARY:YOGAURLAUB buchbar
DESCRIPTION:Du möchtest wissen wie es in einem Yoga Ashram ist – dann bist du bei uns richtig.\nKomm als Yogaurlauber oder mache dein ganz persönliches Retreat. \nFreie Termineinteilung. Du kannst an jedem dieser Tage anreisen und bist an keine Termine gebunden.\n(Buchung ist erforderlich) Der Preis richtet sich nach deiner Zimmerkategorie.
URL:https://www.yogahaus.org/event/yogaurlaub-buchbar-31/
LOCATION:YOGAHAUS Samvit\, Dürnbachstraße 56\, Schliersee\, 83727\, Deutschland
CATEGORIES:YOGAURLAUB buchbar
ATTACH;FMTTYPE=image/webp:https://www.yogahaus.org/wp-content/uploads/2024/09/Praxistage.jpg.webp
ORGANIZER;CN="Samvit Sagar Yoga Schule e.V.":MAILTO:haus@yogasamvit.com
END:VEVENT
BEGIN:VEVENT
DTSTART;VALUE=DATE:20250321
DTEND;VALUE=DATE:20250324
DTSTAMP:20260419T191359
CREATED:20240911T070943Z
LAST-MODIFIED:20241211T064110Z
UID:6356-1742515200-1742774399@www.yogahaus.org
SUMMARY:AYURVEDA - Die Wissenschaft vom Leben
DESCRIPTION:… mit Manuela\, Ayurveda-Therapeutin und langjährige Yogalehrerin im Yogahaus Samvit \nEinführung in Ayurveda. Laut der Ayurveda Lehre ist Gesundheit ein Zustand des harmonischen und individuell ursprünglichen Gleichgewichts zwischen Geist und Körper sowie den drei Lebensenergien – die auch als Doshas bezeichnet werden. Ziel ist es\, diese Balance wieder herzustellen und zu erhalten. Die Lehre des Ayurveda macht deutlich\, dass jeder Mensch von Geburt an über eine ganz spezifische Konstitution verfügt\, die nicht mit der anderer Personen vergleichbar ist. \n(inkl. SEMINAR Tagesablauf) Seminaraufpreis € 56\,-
URL:https://www.yogahaus.org/event/ayurveda-die-wissenschaft-vom-leben-3/
LOCATION:YOGAHAUS Samvit\, Dürnbachstraße 56\, Schliersee\, 83727\, Deutschland
CATEGORIES:Retreat Seminare
ATTACH;FMTTYPE=image/webp:https://www.yogahaus.org/wp-content/uploads/2024/09/Ayur_0.jpg.webp
ORGANIZER;CN="Samvit Sagar Yoga Schule e.V.":MAILTO:haus@yogasamvit.com
END:VEVENT
END:VCALENDAR