BEGIN:VCALENDAR
VERSION:2.0
PRODID:-//YOGAHAUS Samvit - ECPv6.15.20//NONSGML v1.0//EN
CALSCALE:GREGORIAN
METHOD:PUBLISH
X-WR-CALNAME:YOGAHAUS Samvit
X-ORIGINAL-URL:https://www.yogahaus.org
X-WR-CALDESC:Veranstaltungen für YOGAHAUS Samvit
REFRESH-INTERVAL;VALUE=DURATION:PT1H
X-Robots-Tag:noindex
X-PUBLISHED-TTL:PT1H
BEGIN:VTIMEZONE
TZID:Europe/Vienna
BEGIN:DAYLIGHT
TZOFFSETFROM:+0100
TZOFFSETTO:+0200
TZNAME:CEST
DTSTART:20240331T010000
END:DAYLIGHT
BEGIN:STANDARD
TZOFFSETFROM:+0200
TZOFFSETTO:+0100
TZNAME:CET
DTSTART:20241027T010000
END:STANDARD
BEGIN:DAYLIGHT
TZOFFSETFROM:+0100
TZOFFSETTO:+0200
TZNAME:CEST
DTSTART:20250330T010000
END:DAYLIGHT
BEGIN:STANDARD
TZOFFSETFROM:+0200
TZOFFSETTO:+0100
TZNAME:CET
DTSTART:20251026T010000
END:STANDARD
BEGIN:DAYLIGHT
TZOFFSETFROM:+0100
TZOFFSETTO:+0200
TZNAME:CEST
DTSTART:20260329T010000
END:DAYLIGHT
BEGIN:STANDARD
TZOFFSETFROM:+0200
TZOFFSETTO:+0100
TZNAME:CET
DTSTART:20261025T010000
END:STANDARD
END:VTIMEZONE
BEGIN:VEVENT
DTSTART;VALUE=DATE:20250403
DTEND;VALUE=DATE:20250407
DTSTAMP:20260419T155936
CREATED:20240910T114749Z
LAST-MODIFIED:20240910T163144Z
UID:6285-1743638400-1743983999@www.yogahaus.org
SUMMARY:YOGAURLAUB buchbar
DESCRIPTION:Du möchtest wissen wie es in einem Yoga Ashram ist – dann bist du bei uns richtig.\nKomm als Yogaurlauber oder mache dein ganz persönliches Retreat. \nFreie Termineinteilung. Du kannst an jedem dieser Tage anreisen und bist an keine Termine gebunden.\n(Buchung ist erforderlich) Der Preis richtet sich nach deiner Zimmerkategorie.
URL:https://www.yogahaus.org/event/yogaurlaub-buchbar-7/
LOCATION:YOGAHAUS Samvit\, Dürnbachstraße 56\, Schliersee\, 83727\, Deutschland
CATEGORIES:YOGAURLAUB buchbar
ATTACH;FMTTYPE=image/webp:https://www.yogahaus.org/wp-content/uploads/2024/09/Praxistage.jpg.webp
ORGANIZER;CN="Samvit Sagar Yoga Schule e.V.":MAILTO:haus@yogasamvit.com
END:VEVENT
BEGIN:VEVENT
DTSTART;VALUE=DATE:20250411
DTEND;VALUE=DATE:20250414
DTSTAMP:20260419T155936
CREATED:20240911T071907Z
LAST-MODIFIED:20241211T064156Z
UID:6361-1744329600-1744588799@www.yogahaus.org
SUMMARY:YOGA für die GELENKE
DESCRIPTION:… mit Venu \nPawan-Mukta-Asanas\, eine Reihe von 34 Übungen – berühren alle Gelenke und befreien diese wichtigen Verbindungsstellen von Ablagerungen\, sowie Vorbeugung von Versteifungen jeder Art.  \n(inkl. Seminar Tagesablauf) Seminaraufpreis € 54\,-
URL:https://www.yogahaus.org/event/yoga-fuer-die-gelenke/
LOCATION:YOGAHAUS Samvit\, Dürnbachstraße 56\, Schliersee\, 83727\, Deutschland
CATEGORIES:Retreat Seminare
ATTACH;FMTTYPE=image/webp:https://www.yogahaus.org/wp-content/uploads/2024/09/joints.webp
ORGANIZER;CN="Samvit Sagar Yoga Schule e.V.":MAILTO:haus@yogasamvit.com
END:VEVENT
BEGIN:VEVENT
DTSTART;VALUE=DATE:20250411
DTEND;VALUE=DATE:20250428
DTSTAMP:20260419T155936
CREATED:20240910T114943Z
LAST-MODIFIED:20240910T114943Z
UID:6288-1744329600-1745798399@www.yogahaus.org
SUMMARY:YOGAURLAUB buchbar
DESCRIPTION:Du möchtest wissen wie es in einem Yoga Ashram ist – dann bist du bei uns richtig.\nKomm als Yogaurlauber oder mache dein ganz persönliches Retreat. \nFreie Termineinteilung. Du kannst an jedem dieser Tage anreisen und bist an keine Termine gebunden.\n(Buchung ist erforderlich) Der Preis richtet sich nach deiner Zimmerkategorie.
URL:https://www.yogahaus.org/event/yogaurlaub-buchbar-8/
LOCATION:YOGAHAUS Samvit\, Dürnbachstraße 56\, Schliersee\, 83727\, Deutschland
CATEGORIES:YOGAURLAUB buchbar
ATTACH;FMTTYPE=image/jpeg:https://www.yogahaus.org/wp-content/uploads/2021/09/IMG_8376-Kopie-scaled.jpg
ORGANIZER;CN="Samvit Sagar Yoga Schule e.V.":MAILTO:haus@yogasamvit.com
END:VEVENT
END:VCALENDAR