BEGIN:VCALENDAR
VERSION:2.0
PRODID:-//YOGAHAUS Samvit - ECPv6.15.20//NONSGML v1.0//EN
CALSCALE:GREGORIAN
METHOD:PUBLISH
X-ORIGINAL-URL:https://www.yogahaus.org
X-WR-CALDESC:Veranstaltungen für YOGAHAUS Samvit
REFRESH-INTERVAL;VALUE=DURATION:PT1H
X-Robots-Tag:noindex
X-PUBLISHED-TTL:PT1H
BEGIN:VTIMEZONE
TZID:Europe/Vienna
BEGIN:DAYLIGHT
TZOFFSETFROM:+0100
TZOFFSETTO:+0200
TZNAME:CEST
DTSTART:20230326T010000
END:DAYLIGHT
BEGIN:STANDARD
TZOFFSETFROM:+0200
TZOFFSETTO:+0100
TZNAME:CET
DTSTART:20231029T010000
END:STANDARD
BEGIN:DAYLIGHT
TZOFFSETFROM:+0100
TZOFFSETTO:+0200
TZNAME:CEST
DTSTART:20240331T010000
END:DAYLIGHT
BEGIN:STANDARD
TZOFFSETFROM:+0200
TZOFFSETTO:+0100
TZNAME:CET
DTSTART:20241027T010000
END:STANDARD
BEGIN:DAYLIGHT
TZOFFSETFROM:+0100
TZOFFSETTO:+0200
TZNAME:CEST
DTSTART:20250330T010000
END:DAYLIGHT
BEGIN:STANDARD
TZOFFSETFROM:+0200
TZOFFSETTO:+0100
TZNAME:CET
DTSTART:20251026T010000
END:STANDARD
END:VTIMEZONE
BEGIN:VEVENT
DTSTART;VALUE=DATE:20240426
DTEND;VALUE=DATE:20240429
DTSTAMP:20260425T212334
CREATED:20230923T132114Z
LAST-MODIFIED:20240211T092259Z
UID:5603-1714089600-1714348799@www.yogahaus.org
SUMMARY:AYURVEDA – „die Wissenschaft vom Leben“
DESCRIPTION:… mit Manuela\, Ayurveda-Therapeutin und langjährige Yogalehrerin im Yogahaus Samvit \nEinführung in Ayurveda. Laut der Ayurveda Lehre ist Gesundheit ein Zustand des harmonischen und individuell ursprünglichen Gleichgewichts zwischen Geist und Körper sowie den drei Lebensenergien – die auch als Doshas bezeichnet werden. Ziel ist es\, diese Balance wieder herzustellen und zu erhalten. Die Lehre des Ayurveda macht deutlich\, dass jeder Mensch von Geburt an über eine ganz spezifische Konstitution verfügt\, die nicht mit der anderer Personen vergleichbar ist. \n(inkl. SEMINAR Tagesablauf) Seminaraufpreis € 56\,-
URL:https://www.yogahaus.org/event/ayurveda-die-wissenschaft-vom-leben-2/
LOCATION:YOGAHAUS Samvit\, Dürnbachstraße 56\, Schliersee\, 83727\, Deutschland
CATEGORIES:Retreat Seminare
ATTACH;FMTTYPE=image/webp:https://www.yogahaus.org/wp-content/uploads/2023/09/Ayurveda.webp
ORGANIZER;CN="Samvit Sagar Yoga Schule e.V.":MAILTO:haus@yogasamvit.com
END:VEVENT
END:VCALENDAR