BEGIN:VCALENDAR
VERSION:2.0
PRODID:-//YOGAHAUS Samvit - ECPv6.15.20//NONSGML v1.0//EN
CALSCALE:GREGORIAN
METHOD:PUBLISH
X-ORIGINAL-URL:https://www.yogahaus.org
X-WR-CALDESC:Veranstaltungen für YOGAHAUS Samvit
REFRESH-INTERVAL;VALUE=DURATION:PT1H
X-Robots-Tag:noindex
X-PUBLISHED-TTL:PT1H
BEGIN:VTIMEZONE
TZID:Europe/Vienna
BEGIN:DAYLIGHT
TZOFFSETFROM:+0100
TZOFFSETTO:+0200
TZNAME:CEST
DTSTART:20240331T010000
END:DAYLIGHT
BEGIN:STANDARD
TZOFFSETFROM:+0200
TZOFFSETTO:+0100
TZNAME:CET
DTSTART:20241027T010000
END:STANDARD
BEGIN:DAYLIGHT
TZOFFSETFROM:+0100
TZOFFSETTO:+0200
TZNAME:CEST
DTSTART:20250330T010000
END:DAYLIGHT
BEGIN:STANDARD
TZOFFSETFROM:+0200
TZOFFSETTO:+0100
TZNAME:CET
DTSTART:20251026T010000
END:STANDARD
BEGIN:DAYLIGHT
TZOFFSETFROM:+0100
TZOFFSETTO:+0200
TZNAME:CEST
DTSTART:20260329T010000
END:DAYLIGHT
BEGIN:STANDARD
TZOFFSETFROM:+0200
TZOFFSETTO:+0100
TZNAME:CET
DTSTART:20261025T010000
END:STANDARD
END:VTIMEZONE
BEGIN:VEVENT
DTSTART;VALUE=DATE:20250704
DTEND;VALUE=DATE:20250707
DTSTAMP:20260421T105438
CREATED:20240913T120856Z
LAST-MODIFIED:20250427T104956Z
UID:6421-1751587200-1751846399@www.yogahaus.org
SUMMARY:Sound Healing & Yoga
DESCRIPTION:… mit Elisabeth\, Mitbegründerin des YOGAHAUS Samvit\, Heilpraktikerin \nSound Healing ist eine uralte Heiltechnik\, die auf die Wirkung von Klängen und Schwingungen basiert. Alles ist Schwingung\, alles ist Frequenz. \nBeim Sound Healing kannst Du den Stress des Alltags hinter Dir lassen und in die entspannende Welt der Klänge eintauchen. Durch das Wirken von Klängen und Schwingungen kann der Körper Blockaden lösen und Du spürst eine tiefe Verbundenheit zu Dir und dem Universum. Dies ist eine wirksame Behandlungsmethode\, die auf allen Ebenen arbeitet.\nWährend einer Sound Healing Session kann unser Gehirn von einem Wachzustand (Beta) direkt in einen tief entspannten Zustand (Theta) oder in den Schlafzustand (Delta) übergehen. Du erfährst den absoluten Zustand des Seins. Dein Körper befindet sich in diesen Frequenzbereichen im „Regeneratiosprozess“\, es findet Heilung auf allen Ebenen statt. Die Frequenzen der original Alchemie Crystal Bowls bringen Deinen emotionalen\, physischen\, spirituellen und mentalen Körper wieder in einen Zustand der Harmonie und Einheit. \nTauche mit Yoga\, Sound Healing\, einer Blue Lotus Zeremonie und den Frequenzen der Crystal Bowls ein in die Tiefen Deines Seins. \n(inkl. SEMINAR Tagesablauf) Seminaraufpreis € 108\,-
URL:https://www.yogahaus.org/event/sound-healing-yoga/
LOCATION:YOGAHAUS Samvit\, Dürnbachstraße 56\, Schliersee\, 83727\, Deutschland
CATEGORIES:Retreat Seminare
ATTACH;FMTTYPE=image/jpeg:https://www.yogahaus.org/wp-content/uploads/2024/09/photo_2024-09-13_14-02-10.jpg
ORGANIZER;CN="Samvit Sagar Yoga Schule e.V.":MAILTO:haus@yogasamvit.com
END:VEVENT
BEGIN:VEVENT
DTSTART;VALUE=DATE:20250720
DTEND;VALUE=DATE:20250726
DTSTAMP:20260421T105438
CREATED:20240911T073309Z
LAST-MODIFIED:20250724T125158Z
UID:6374-1752969600-1753487999@www.yogahaus.org
SUMMARY:Fortgeschrittene YOGA PRAXIS Tage - 5 Tage kommen\, nur 4 bezahlen!
DESCRIPTION:Nimm dir eine Auszeit. Eine Woche zum Praktizieren und Erlernen von fortgeschrittenen Asanas und Variationen. \nBestens geeignet für Yoga Lehrende und Menschen die ihre eigene Praxis erweitern möchten. \n(inkl. YOGAHAUS Tagesablauf) Der Preis richtet sich nach deiner Zimmerkategorie.
URL:https://www.yogahaus.org/event/fortgeschrittene-yoga-praxis-tage-5-tage-kommen-nur-4-bezahlen/
LOCATION:YOGAHAUS Samvit\, Dürnbachstraße 56\, Schliersee\, 83727\, Deutschland
CATEGORIES:Retreat Seminare
ATTACH;FMTTYPE=image/webp:https://www.yogahaus.org/wp-content/uploads/2024/09/advanced.jpg-1.webp
ORGANIZER;CN="Samvit Sagar Yoga Schule e.V.":MAILTO:haus@yogasamvit.com
END:VEVENT
END:VCALENDAR