BEGIN:VCALENDAR
VERSION:2.0
PRODID:-//YOGAHAUS Samvit - ECPv6.15.20//NONSGML v1.0//EN
CALSCALE:GREGORIAN
METHOD:PUBLISH
X-WR-CALNAME:YOGAHAUS Samvit
X-ORIGINAL-URL:https://www.yogahaus.org
X-WR-CALDESC:Veranstaltungen für YOGAHAUS Samvit
REFRESH-INTERVAL;VALUE=DURATION:PT1H
X-Robots-Tag:noindex
X-PUBLISHED-TTL:PT1H
BEGIN:VTIMEZONE
TZID:Europe/Vienna
BEGIN:DAYLIGHT
TZOFFSETFROM:+0100
TZOFFSETTO:+0200
TZNAME:CEST
DTSTART:20240331T010000
END:DAYLIGHT
BEGIN:STANDARD
TZOFFSETFROM:+0200
TZOFFSETTO:+0100
TZNAME:CET
DTSTART:20241027T010000
END:STANDARD
BEGIN:DAYLIGHT
TZOFFSETFROM:+0100
TZOFFSETTO:+0200
TZNAME:CEST
DTSTART:20250330T010000
END:DAYLIGHT
BEGIN:STANDARD
TZOFFSETFROM:+0200
TZOFFSETTO:+0100
TZNAME:CET
DTSTART:20251026T010000
END:STANDARD
BEGIN:DAYLIGHT
TZOFFSETFROM:+0100
TZOFFSETTO:+0200
TZNAME:CEST
DTSTART:20260329T010000
END:DAYLIGHT
BEGIN:STANDARD
TZOFFSETFROM:+0200
TZOFFSETTO:+0100
TZNAME:CET
DTSTART:20261025T010000
END:STANDARD
END:VTIMEZONE
BEGIN:VEVENT
DTSTART;VALUE=DATE:20250221
DTEND;VALUE=DATE:20250224
DTSTAMP:20260423T063952
CREATED:20240911T070232Z
LAST-MODIFIED:20241211T064023Z
UID:6353-1740096000-1740355199@www.yogahaus.org
SUMMARY:Die 3 KÖRPER im YOGA
DESCRIPTION:… mit Venu \nIm Yoga sprechen wir von 3 Körpern – Der Mensch existiert nicht nur auf der physischen Ebene wo wir den Körper mit all seinen Funktionen haben. Sondern auch auf anderen Dimensionsebenen die nicht physisch wahrnehmbar oder beweisbar sind. Wenn wir unseren Geist öffnen und unsere Wahrnehmung erweitern\, dann bekommen wir mehr Zugang zu unserem wahren Selbst. \n(inkl. SEMINAR Tagesablauf) Seminaraufpreis € 52\,-
URL:https://www.yogahaus.org/event/die-3-koerper-im-yoga/
LOCATION:YOGAHAUS Samvit\, Dürnbachstraße 56\, Schliersee\, 83727\, Deutschland
CATEGORIES:Retreat Seminare
ATTACH;FMTTYPE=image/jpeg:https://www.yogahaus.org/wp-content/uploads/2024/09/3Bodies.jpg
ORGANIZER;CN="Samvit Sagar Yoga Schule e.V.":MAILTO:haus@yogasamvit.com
END:VEVENT
END:VCALENDAR