BEGIN:VCALENDAR
VERSION:2.0
PRODID:-//YOGAHAUS Samvit - ECPv6.15.20//NONSGML v1.0//EN
CALSCALE:GREGORIAN
METHOD:PUBLISH
X-WR-CALNAME:YOGAHAUS Samvit
X-ORIGINAL-URL:https://www.yogahaus.org
X-WR-CALDESC:Veranstaltungen für YOGAHAUS Samvit
REFRESH-INTERVAL;VALUE=DURATION:PT1H
X-Robots-Tag:noindex
X-PUBLISHED-TTL:PT1H
BEGIN:VTIMEZONE
TZID:Europe/Vienna
BEGIN:DAYLIGHT
TZOFFSETFROM:+0100
TZOFFSETTO:+0200
TZNAME:CEST
DTSTART:20240331T010000
END:DAYLIGHT
BEGIN:STANDARD
TZOFFSETFROM:+0200
TZOFFSETTO:+0100
TZNAME:CET
DTSTART:20241027T010000
END:STANDARD
BEGIN:DAYLIGHT
TZOFFSETFROM:+0100
TZOFFSETTO:+0200
TZNAME:CEST
DTSTART:20250330T010000
END:DAYLIGHT
BEGIN:STANDARD
TZOFFSETFROM:+0200
TZOFFSETTO:+0100
TZNAME:CET
DTSTART:20251026T010000
END:STANDARD
BEGIN:DAYLIGHT
TZOFFSETFROM:+0100
TZOFFSETTO:+0200
TZNAME:CEST
DTSTART:20260329T010000
END:DAYLIGHT
BEGIN:STANDARD
TZOFFSETFROM:+0200
TZOFFSETTO:+0100
TZNAME:CET
DTSTART:20261025T010000
END:STANDARD
END:VTIMEZONE
BEGIN:VEVENT
DTSTART;VALUE=DATE:20250606
DTEND;VALUE=DATE:20250610
DTSTAMP:20260423T003238
CREATED:20240911T072554Z
LAST-MODIFIED:20241211T064249Z
UID:6368-1749168000-1749513599@www.yogahaus.org
SUMMARY:Wo das GLÜCK zu finden ist
DESCRIPTION:… mit Venu \nJeder Mensch strebt nach dem Glück aber leider haben wir glücklich sein mit komfortable sein verwechselt. Durch die Hilfe des Jnana Yoga gehen wir in diesem Seminar zur Quelle des Glückes. Erleuchtende Vorträge führen dich hin zu deinem wahren Sein welches Glückseligkeit ist. \n(inkl. YOGAHAUS Tagesablauf) Seminaraufpreis € 64\,-
URL:https://www.yogahaus.org/event/wo-das-glueck-zu-finden-ist/
LOCATION:YOGAHAUS Samvit\, Dürnbachstraße 56\, Schliersee\, 83727\, Deutschland
CATEGORIES:Retreat Seminare
ATTACH;FMTTYPE=image/webp:https://www.yogahaus.org/wp-content/uploads/2024/09/Glueck.jpg.webp
ORGANIZER;CN="Samvit Sagar Yoga Schule e.V.":MAILTO:haus@yogasamvit.com
END:VEVENT
BEGIN:VEVENT
DTSTART;VALUE=DATE:20250625
DTEND;VALUE=DATE:20250630
DTSTAMP:20260423T003238
CREATED:20240911T072928Z
LAST-MODIFIED:20241211T064311Z
UID:6371-1750809600-1751241599@www.yogahaus.org
SUMMARY:AYURVEDA SAMKHYA
DESCRIPTION:… mit Manuela\, Ayurveda Therapeutin \nErholsame\, friedliche und reinigende Ayurveda Tage mit Yoga. \nGönne deinem Körper und Geist Frieden\, Entspannung & Erholung. \nZur Auswahl stehen 3 verschiedene Behandlungs Pakete: \n\nPRAKURTHI Test zum Konstitutionstyp inkl. der Erläuterung zu dem jeweiligen dominanten Dosha\, Abhyanga Ganzkörper Ölmassage\, Pinda Sweda – Reisstempel Behandlung\, Shirodara – Stirn Ölguss\n\n      Tägliche Behandlungen € 298\,- \n\nPRAKRITI – Kleine Konstitutionsdiagnose\, Abhyanga Ganzkörper Ölmassage\, Garshan Seidenhandschuh Massage\, Muk- & Shiroabhyanga / Gesicht & Kopfmassage\n\n      Tägliche Behandlungen € 258\,- \n3)   KUNDALA – Muk- & Shiroabhyanga / Gesicht & Kopfmassage\, Prithabhyanga /  \nRückenmassage\,  Padabhyanga (Fußmassage)   \nTägliche Behandlungen € 138\,-
URL:https://www.yogahaus.org/event/ayurveda-samkhya/
LOCATION:YOGAHAUS Samvit\, Dürnbachstraße 56\, Schliersee\, 83727\, Deutschland
CATEGORIES:Retreat Seminare
ATTACH;FMTTYPE=image/webp:https://www.yogahaus.org/wp-content/uploads/2024/09/Ayur1.jpg.webp
ORGANIZER;CN="Samvit Sagar Yoga Schule e.V.":MAILTO:haus@yogasamvit.com
END:VEVENT
END:VCALENDAR